BEGIN:VCALENDAR
VERSION:2.0
PRODID:-//Grupo de Comunicación Loyola - ECPv6.15.20//NONSGML v1.0//EN
CALSCALE:GREGORIAN
METHOD:PUBLISH
X-WR-CALNAME:Grupo de Comunicación Loyola
X-ORIGINAL-URL:https://gcloyola.com
X-WR-CALDESC:Eventos para Grupo de Comunicación Loyola
REFRESH-INTERVAL;VALUE=DURATION:PT1H
X-Robots-Tag:noindex
X-PUBLISHED-TTL:PT1H
BEGIN:VTIMEZONE
TZID:Europe/Madrid
BEGIN:DAYLIGHT
TZOFFSETFROM:+0100
TZOFFSETTO:+0200
TZNAME:CEST
DTSTART:20230326T010000
END:DAYLIGHT
BEGIN:STANDARD
TZOFFSETFROM:+0200
TZOFFSETTO:+0100
TZNAME:CET
DTSTART:20231029T010000
END:STANDARD
BEGIN:DAYLIGHT
TZOFFSETFROM:+0100
TZOFFSETTO:+0200
TZNAME:CEST
DTSTART:20240331T010000
END:DAYLIGHT
BEGIN:STANDARD
TZOFFSETFROM:+0200
TZOFFSETTO:+0100
TZNAME:CET
DTSTART:20241027T010000
END:STANDARD
BEGIN:DAYLIGHT
TZOFFSETFROM:+0100
TZOFFSETTO:+0200
TZNAME:CEST
DTSTART:20250330T010000
END:DAYLIGHT
BEGIN:STANDARD
TZOFFSETFROM:+0200
TZOFFSETTO:+0100
TZNAME:CET
DTSTART:20251026T010000
END:STANDARD
END:VTIMEZONE
BEGIN:VEVENT
DTSTART;TZID=Europe/Madrid:20240924T200000
DTEND;TZID=Europe/Madrid:20240924T210000
DTSTAMP:20260420T224024
CREATED:20240915T165228Z
LAST-MODIFIED:20240915T170825Z
UID:45758-1727208000-1727211600@gcloyola.com
SUMMARY:La herida se ilumina - Madrid
DESCRIPTION:La cuestión del Divorcio y la fe es compleja\, y a veces muy difícil de afrontar. No siempre sabemos ni hablar de ello ni acompañarlo. \n¿Cómo afecta un divorcio a cualquier persona? Y a un creyente que se casó por la Iglesia de manera consciente y decidida\, ¿qué le supone? La fe y la doctrina eclesial ¿le ayudan a sanar? ¿existen proyectos eclesiales que acompañen a las personas separadas y divorciadas?\nA estas y otras preguntas responde “La herida se ilumina”\, un libro de entrevistas a personas creyentes divorciadas que ofrecen un testimonio de esperanza\nSu autora Elena Rodríguez-Avial\, es madre de tres hijos\, creyente y periodista. Tras la herida que le supuso su divorcio inició el proceso de sanación eclesial Cuatro Estaciones.\nEl libro está disponible en librerías religiosas\, en gcloyola.com y en Amazon.\nSe presenta en Madrid el 24 de septiembre\, a las 20 h. en Jesuitas Maldonado (C/Maldonado\, 1) \nEn la presentación acompañarán a la autora el jesuita José María Rodríguez Olaizola\, Jesús Ángel Rodríguez Arroyo (coordinador del proceso Cuatro Estaciones)\, y Olga de la Llana Dörr\, creyente y divorciada que ha experimentado mucho de lo que se propone en “La herida se ilumina”.
URL:https://gcloyola.com/evento/la-herida-se-ilumina-madrid/
LOCATION:Parroquia San Francisco Borja\, Maldonado 1\, Madrid\, Madrid\, 28006
CATEGORIES:Presentaciones
ATTACH;FMTTYPE=image/png:https://gcloyola.com/wp-content/uploads/2024/09/Presentacion_Mensajero_La-herida-se-ilumina_MAIL-1.png
END:VEVENT
END:VCALENDAR