BEGIN:VCALENDAR
VERSION:2.0
PRODID:-//Grupo de Comunicación Loyola - ECPv6.15.20//NONSGML v1.0//EN
CALSCALE:GREGORIAN
METHOD:PUBLISH
X-WR-CALNAME:Grupo de Comunicación Loyola
X-ORIGINAL-URL:https://gcloyola.com
X-WR-CALDESC:Eventos para Grupo de Comunicación Loyola
REFRESH-INTERVAL;VALUE=DURATION:PT1H
X-Robots-Tag:noindex
X-PUBLISHED-TTL:PT1H
BEGIN:VTIMEZONE
TZID:Europe/Madrid
BEGIN:DAYLIGHT
TZOFFSETFROM:+0100
TZOFFSETTO:+0200
TZNAME:CEST
DTSTART:20240331T010000
END:DAYLIGHT
BEGIN:STANDARD
TZOFFSETFROM:+0200
TZOFFSETTO:+0100
TZNAME:CET
DTSTART:20241027T010000
END:STANDARD
BEGIN:DAYLIGHT
TZOFFSETFROM:+0100
TZOFFSETTO:+0200
TZNAME:CEST
DTSTART:20250330T010000
END:DAYLIGHT
BEGIN:STANDARD
TZOFFSETFROM:+0200
TZOFFSETTO:+0100
TZNAME:CET
DTSTART:20251026T010000
END:STANDARD
BEGIN:DAYLIGHT
TZOFFSETFROM:+0100
TZOFFSETTO:+0200
TZNAME:CEST
DTSTART:20260329T010000
END:DAYLIGHT
BEGIN:STANDARD
TZOFFSETFROM:+0200
TZOFFSETTO:+0100
TZNAME:CET
DTSTART:20261025T010000
END:STANDARD
END:VTIMEZONE
BEGIN:VEVENT
DTSTART;VALUE=DATE:20250516
DTEND;VALUE=DATE:20250519
DTSTAMP:20260423T133433
CREATED:20250220T100405Z
LAST-MODIFIED:20250220T100742Z
UID:65172-1747353600-1747612799@gcloyola.com
SUMMARY:Simposium Revista Manresa - Salamanca
DESCRIPTION:La Revista Manresa cumple su primer centenario\, y nada mejor para celebrarlo que un Simposium en torno a algunos grandes temas de la espiritualidad ignaciana y los ejercicios espirituales. \nEl evento\, abierto a toda persona interesada por estas cuestiones\, tendrá lugar en el Centro de Espiritualidad San Ignacio de Salamanca\, los días 16\,17 y 18 de mayo. En sus conferencias y paneles se darán cita grandes especialistas\, cuyas aportaciones enriquecerán sin duda el panorama actual de los ejercicios. \nDescárgate desde el QR el programa de este acontecimiento tan especial\, así como los datos de inscripción. \n 
URL:https://gcloyola.com/evento/simposium-revista-manresa-salamanca/
LOCATION:Centro de Espiritualidad San Ignacio\, Paseo de San Antonio\, 40\, Salamanca\, 37003
CATEGORIES:Simposium
ATTACH;FMTTYPE=image/png:https://gcloyola.com/wp-content/uploads/2025/02/Simposium-Revista-Manresa-AGENDA.png
END:VEVENT
END:VCALENDAR