BEGIN:VCALENDAR
VERSION:2.0
PRODID:-//Grupo de Comunicación Loyola - ECPv6.15.20//NONSGML v1.0//EN
CALSCALE:GREGORIAN
METHOD:PUBLISH
X-ORIGINAL-URL:https://gcloyola.com
X-WR-CALDESC:Eventos para Grupo de Comunicación Loyola
REFRESH-INTERVAL;VALUE=DURATION:PT1H
X-Robots-Tag:noindex
X-PUBLISHED-TTL:PT1H
BEGIN:VTIMEZONE
TZID:Europe/Madrid
BEGIN:DAYLIGHT
TZOFFSETFROM:+0100
TZOFFSETTO:+0200
TZNAME:CEST
DTSTART:20240331T010000
END:DAYLIGHT
BEGIN:STANDARD
TZOFFSETFROM:+0200
TZOFFSETTO:+0100
TZNAME:CET
DTSTART:20241027T010000
END:STANDARD
BEGIN:DAYLIGHT
TZOFFSETFROM:+0100
TZOFFSETTO:+0200
TZNAME:CEST
DTSTART:20250330T010000
END:DAYLIGHT
BEGIN:STANDARD
TZOFFSETFROM:+0200
TZOFFSETTO:+0100
TZNAME:CET
DTSTART:20251026T010000
END:STANDARD
BEGIN:DAYLIGHT
TZOFFSETFROM:+0100
TZOFFSETTO:+0200
TZNAME:CEST
DTSTART:20260329T010000
END:DAYLIGHT
BEGIN:STANDARD
TZOFFSETFROM:+0200
TZOFFSETTO:+0100
TZNAME:CET
DTSTART:20261025T010000
END:STANDARD
END:VTIMEZONE
BEGIN:VEVENT
DTSTART;TZID=Europe/Madrid:20251027T190000
DTEND;TZID=Europe/Madrid:20251027T190000
DTSTAMP:20260420T160332
CREATED:20251021T112632Z
LAST-MODIFIED:20251021T122921Z
UID:75040-1761591600-1761591600@gcloyola.com
SUMMARY:De Roberto a León - Madrid
DESCRIPTION:El próximo lunes 27 de octubre\, a las 19:00 horas\, el Aula San Agustín de la Parroquia San Manuel y San Benito (C/ Columela\, 12\, Madrid) acogerá la presentación del libro De Roberto a León: amistad\, memoria y misión\, escrito por Armando Jesús Lovera Vásquez y publicado por Mensajero. El autor\, amigo íntimo -“un amigo más del alma”\, como le gusta verse- del actual papa León XIV (Robert Francis Prevost)\, comparte en este libro una historia tejida a lo largo de décadas. Una historia de amistad\, de camino compartido y de misión. Lovera no escribe desde la distancia\, sino desde la experiencia de quien ha convivido\, trabajado y rezado junto a aquel que hoy ocupa la sede de Pedro. \nEl libro recoge recuerdos\, anécdotas y reflexiones sobre una relación marcada por la fe\, la fraternidad y el servicio. A través de sus páginas\, el lector descubre al hombre detrás del Papa\, al religioso comprometido\, al amigo cercano\, al pastor que crece en humanidad. La presentación será una ocasión para escuchar de primera mano los orígenes de esa relación y el sentido que cobra hoy\, cuando la Iglesia vive un nuevo tiempo con un Papa agustino. Con un tono cercano y sencillo\, Lovera ofrecerá su testimonio sobre lo que ha significado acompañar a Robert Prevost en su recorrido vital y espiritual. \nUn encuentro para quienes creen que el Evangelio se vive con los pies en la tierra\, también desde la amistad.
URL:https://gcloyola.com/evento/de-roberto-a-leon-madrid/
LOCATION:Aula San Agustín. Parroquia de San Manuel y San Benito\, C/ Columela\, 12\, Madrid\, Madrid\, Spain
CATEGORIES:Presentaciones
ATTACH;FMTTYPE=image/png:https://gcloyola.com/wp-content/uploads/2025/10/WEB_Presentacion_De-Roberto-a-Leon_27-octubre.png
END:VEVENT
END:VCALENDAR