BEGIN:VCALENDAR
VERSION:2.0
PRODID:-//Grupo de Comunicación Loyola - ECPv6.15.20//NONSGML v1.0//EN
CALSCALE:GREGORIAN
METHOD:PUBLISH
X-WR-CALNAME:Grupo de Comunicación Loyola
X-ORIGINAL-URL:https://gcloyola.com
X-WR-CALDESC:Eventos para Grupo de Comunicación Loyola
REFRESH-INTERVAL;VALUE=DURATION:PT1H
X-Robots-Tag:noindex
X-PUBLISHED-TTL:PT1H
BEGIN:VTIMEZONE
TZID:Europe/Madrid
BEGIN:DAYLIGHT
TZOFFSETFROM:+0100
TZOFFSETTO:+0200
TZNAME:CEST
DTSTART:20240331T010000
END:DAYLIGHT
BEGIN:STANDARD
TZOFFSETFROM:+0200
TZOFFSETTO:+0100
TZNAME:CET
DTSTART:20241027T010000
END:STANDARD
BEGIN:DAYLIGHT
TZOFFSETFROM:+0100
TZOFFSETTO:+0200
TZNAME:CEST
DTSTART:20250330T010000
END:DAYLIGHT
BEGIN:STANDARD
TZOFFSETFROM:+0200
TZOFFSETTO:+0100
TZNAME:CET
DTSTART:20251026T010000
END:STANDARD
BEGIN:DAYLIGHT
TZOFFSETFROM:+0100
TZOFFSETTO:+0200
TZNAME:CEST
DTSTART:20260329T010000
END:DAYLIGHT
BEGIN:STANDARD
TZOFFSETFROM:+0200
TZOFFSETTO:+0100
TZNAME:CET
DTSTART:20261025T010000
END:STANDARD
END:VTIMEZONE
BEGIN:VEVENT
DTSTART;TZID=Europe/Madrid:20251201T200000
DTEND;TZID=Europe/Madrid:20251201T200000
DTSTAMP:20260420T113318
CREATED:20251031T120318Z
LAST-MODIFIED:20251125T114245Z
UID:75391-1764619200-1764619200@gcloyola.com
SUMMARY:De Roberto a León - Valladolid
DESCRIPTION:La verdadera amistad no entiende de distancias ni de cargos; se forja en la vida compartida y resiste el paso del tiempo y de las fronteras. Esta es la esencia que recorre las páginas de “De Roberto a León: Amistad\, memoria y misión”\, el libro escrito por Armando Jesús Lovera Vásquez que se presentará el lunes 1 de diciembre a las 20:00 en el Auditorio del Estudio Teológico Agustiniano de Valladolid (Paseo de Filipinos\, 7). El encuentro servirá para descubrir una historia que une continentes y responsabilidades eclesiales desde una mirada profundamente humana. \nEl libro plantea un itinerario vital que nace en los años de formación en Trujillo y desemboca en un presente histórico\, marcado por la elección de Robert Prevost como el papa León XIV. A través de capítulos que son ventanas a la realidad —desde las misiones en Perú hasta la intimidad de la familia Prevost—\, el texto huye de la biografía fría para narrar con voz honesta cómo la vocación y la amistad maduraron juntas. Lovera ofrece un relato sostenido por la memoria agradecida y la búsqueda espiritual común. Armando Jesús Lovera Vásquez\, testigo directo de este camino\, aporta en estas páginas las claves de una trayectoria biográfica que ilumina el presente de la Iglesia. El autor ofrecerá en la presentación y coloquio una vista panorámica que desde su experiencia personal\, ayuda a acercarse mejor a la figura del nuevo pontífice.
URL:https://gcloyola.com/evento/de-roberto-a-leon-valladolid/
LOCATION:Estudio Teológico Agustiniano\, Paseo de Filipinos\, 7\, Valladolid\, Valladolid\, 47007\, Spain
CATEGORIES:Presentaciones
ATTACH;FMTTYPE=image/png:https://gcloyola.com/wp-content/uploads/2025/10/WEB_Presentacion_De-Roberto-a-Leon_1-diciembre-scaled.png
END:VEVENT
BEGIN:VEVENT
DTSTART;TZID=Europe/Madrid:20251218T190000
DTEND;TZID=Europe/Madrid:20251218T203000
DTSTAMP:20260420T113318
CREATED:20251212T131240Z
LAST-MODIFIED:20251215T134455Z
UID:76831-1766084400-1766089800@gcloyola.com
SUMMARY:Ser puerta abierta - Valencia
DESCRIPTION:El jueves 18 de diciembre\, a las 19:00 horas\, el Centro Arrupe (Gran Vía de Fernando el Católico\, 78\, en Valencia) acogerá la conferencia “Construyendo hospitalidad frente a los delitos de odio” a cargo de Alberto Ares\, jesuita y director de la oficina europea del Servicio Jesuita a Refugiados (JRS)\, y posteriormente la presentación del libro Ser puerta abierta. La hospitalidad en el corazón de la espiritualidad\, publicado por Sal Terrae. \nEste encuentro quiere abrir una conversación abierta sobre lo que significa acoger\, escuchar y acompañar. Ser puerta abierta no habla solo de migraciones\, sino de la capacidad de mirar al otro con dignidad y ternura\, de abrir la vida al encuentro. \nEn este libro\, Roberto Ares\, Jennifer Gómez y M.ª del Carmen de la Fuente recogen experiencias y reflexiones que nacen del contacto directo con personas migrantes y refugiadas. Desde ahí\, proponen una espiritualidad encarnada\, donde la hospitalidad no es un gesto puntual\, sino una forma de situarse ante la vida.
URL:https://gcloyola.com/evento/ser-puerta-abierta-valencia/
LOCATION:Centro Arrupe Valencia\, Gran Vía de Fernando el Católico\, 78\, Valencia\, 46008
CATEGORIES:Conferencia,Presentaciones
ATTACH;FMTTYPE=image/png:https://gcloyola.com/wp-content/uploads/2025/12/WEB_Presentacion_Ser-puerta-abierta-18-diciembre-1-scaled.png
END:VEVENT
BEGIN:VEVENT
DTSTART;TZID=Europe/Madrid:20251230T193000
DTEND;TZID=Europe/Madrid:20251230T203000
DTSTAMP:20260420T113318
CREATED:20251219T160726Z
LAST-MODIFIED:20251219T160726Z
UID:77160-1767123000-1767126600@gcloyola.com
SUMMARY:Ser puerta abierta - Vallladolid
DESCRIPTION:El martes 30 de diciembre\, a las 19:30 horas\, en la Librería Paulinas de Valladolid\,  Alberto Ares\, jesuita y director de la oficina europea del Servicio Jesuita a Refugiados (JRS)\, estará presentando su nuevo libro Ser puerta abierta. La hospitalidad en el corazón de la espiritualidad\, publicado por Sal Terrae. \nEste encuentro quiere abrir una conversación abierta sobre lo que significa acoger\, escuchar y acompañar. Ser puerta abierta no habla solo de migraciones\, sino de la capacidad de mirar al otro con dignidad y ternura\, de abrir la vida al encuentro. En este libro\, Roberto Ares\, Jennifer Gómez y M.ª del Carmen de la Fuente recogen experiencias y reflexiones que nacen del contacto directo con personas migrantes y refugiadas. Desde ahí\, proponen una espiritualidad encarnada\, donde la hospitalidad pasa a ser una forma determinante de situarse ante la vida.
URL:https://gcloyola.com/evento/ser-puerta-abierta-vallladolid/
LOCATION:Librería Paulinas Valladolid\, Calle Angustias\, 5\, Valladolid\, Valladolid\, Spain
CATEGORIES:Presentaciones
ATTACH;FMTTYPE=image/png:https://gcloyola.com/wp-content/uploads/2025/12/WEB_Presentacion_Ser-puerta-abierta-30diciembre-scaled.png
END:VEVENT
END:VCALENDAR