BEGIN:VCALENDAR
VERSION:2.0
PRODID:-//Grupo de Comunicación Loyola - ECPv6.15.20//NONSGML v1.0//EN
CALSCALE:GREGORIAN
METHOD:PUBLISH
X-ORIGINAL-URL:https://gcloyola.com
X-WR-CALDESC:Eventos para Grupo de Comunicación Loyola
REFRESH-INTERVAL;VALUE=DURATION:PT1H
X-Robots-Tag:noindex
X-PUBLISHED-TTL:PT1H
BEGIN:VTIMEZONE
TZID:Europe/Madrid
BEGIN:DAYLIGHT
TZOFFSETFROM:+0100
TZOFFSETTO:+0200
TZNAME:CEST
DTSTART:20240331T010000
END:DAYLIGHT
BEGIN:STANDARD
TZOFFSETFROM:+0200
TZOFFSETTO:+0100
TZNAME:CET
DTSTART:20241027T010000
END:STANDARD
BEGIN:DAYLIGHT
TZOFFSETFROM:+0100
TZOFFSETTO:+0200
TZNAME:CEST
DTSTART:20250330T010000
END:DAYLIGHT
BEGIN:STANDARD
TZOFFSETFROM:+0200
TZOFFSETTO:+0100
TZNAME:CET
DTSTART:20251026T010000
END:STANDARD
BEGIN:DAYLIGHT
TZOFFSETFROM:+0100
TZOFFSETTO:+0200
TZNAME:CEST
DTSTART:20260329T010000
END:DAYLIGHT
BEGIN:STANDARD
TZOFFSETFROM:+0200
TZOFFSETTO:+0100
TZNAME:CET
DTSTART:20261025T010000
END:STANDARD
END:VTIMEZONE
BEGIN:VEVENT
DTSTART;TZID=Europe/Madrid:20251017T110000
DTEND;TZID=Europe/Madrid:20251017T110000
DTSTAMP:20260420T142138
CREATED:20251014T113233Z
LAST-MODIFIED:20251014T121737Z
UID:74773-1760698800-1760698800@gcloyola.com
SUMMARY:De Roberto a León - Roma
DESCRIPTION:El próximo viernes 17 de octubre a las 11:00 h\, el Pontificio Instituto Patrístico Augustinianum de Roma acogerá el conversatorio “De Roberto a León. Amistad\, memoria y misión”\, un encuentro que abordará la amistad desde tres perspectivas complementarias: la vivencia humana\, la cristiana y la agustiniana. \nEn el diálogo participarán Armando Jesús Lovera Vásquez\, autor del libro De Roberto a León\, publicado por el Grupo de Comunicación Loyola\, y el P. Juan Antonio Cabrera\, OSA\, Presidente del Instituto Patrístico Agustinianum. \nEl encuentro invita a contemplar la amistad como lugar de memoria\, de fe compartida y de misión\, inspirándose en la trayectoria y el testimonio de Robert Francis Prevost —hoy papa León XIV— y en las relaciones que marcaron su camino dentro de la familia agustiniana.
URL:https://gcloyola.com/evento/74773/
LOCATION:Aula Minor del Pontificio Istituto Patristico Augustinianum\, Vía Paolo VI\, Roma\, Italy
CATEGORIES:Coloquio,Presentaciones
ATTACH;FMTTYPE=image/png:https://gcloyola.com/wp-content/uploads/2025/10/WEB_Presentacion_De-Roberto-a-Leon.png
END:VEVENT
BEGIN:VEVENT
DTSTART;TZID=Europe/Madrid:20251027T190000
DTEND;TZID=Europe/Madrid:20251027T190000
DTSTAMP:20260420T142138
CREATED:20251021T112632Z
LAST-MODIFIED:20251021T122921Z
UID:75040-1761591600-1761591600@gcloyola.com
SUMMARY:De Roberto a León - Madrid
DESCRIPTION:El próximo lunes 27 de octubre\, a las 19:00 horas\, el Aula San Agustín de la Parroquia San Manuel y San Benito (C/ Columela\, 12\, Madrid) acogerá la presentación del libro De Roberto a León: amistad\, memoria y misión\, escrito por Armando Jesús Lovera Vásquez y publicado por Mensajero. El autor\, amigo íntimo -“un amigo más del alma”\, como le gusta verse- del actual papa León XIV (Robert Francis Prevost)\, comparte en este libro una historia tejida a lo largo de décadas. Una historia de amistad\, de camino compartido y de misión. Lovera no escribe desde la distancia\, sino desde la experiencia de quien ha convivido\, trabajado y rezado junto a aquel que hoy ocupa la sede de Pedro. \nEl libro recoge recuerdos\, anécdotas y reflexiones sobre una relación marcada por la fe\, la fraternidad y el servicio. A través de sus páginas\, el lector descubre al hombre detrás del Papa\, al religioso comprometido\, al amigo cercano\, al pastor que crece en humanidad. La presentación será una ocasión para escuchar de primera mano los orígenes de esa relación y el sentido que cobra hoy\, cuando la Iglesia vive un nuevo tiempo con un Papa agustino. Con un tono cercano y sencillo\, Lovera ofrecerá su testimonio sobre lo que ha significado acompañar a Robert Prevost en su recorrido vital y espiritual. \nUn encuentro para quienes creen que el Evangelio se vive con los pies en la tierra\, también desde la amistad.
URL:https://gcloyola.com/evento/de-roberto-a-leon-madrid/
LOCATION:Aula San Agustín. Parroquia de San Manuel y San Benito\, C/ Columela\, 12\, Madrid\, Madrid\, Spain
CATEGORIES:Presentaciones
ATTACH;FMTTYPE=image/png:https://gcloyola.com/wp-content/uploads/2025/10/WEB_Presentacion_De-Roberto-a-Leon_27-octubre.png
END:VEVENT
BEGIN:VEVENT
DTSTART;TZID=Europe/Madrid:20251028T173000
DTEND;TZID=Europe/Madrid:20251028T173000
DTSTAMP:20260420T142138
CREATED:20251015T110806Z
LAST-MODIFIED:20251015T110906Z
UID:74818-1761672600-1761672600@gcloyola.com
SUMMARY:De la orfandad a la filiación - Sevilla
DESCRIPTION:El próximo martes 28 de octubre a las 17:30 h\, en la Carpa Central de la Feria del Libro de Sevilla\, se presentará el nuevo libro de Serafín Béjar Bacas\, titulado De la orfandad a la filiación. 5 + 1 razones para creer. En el acto participará el autor junto a José Antonio Muñiz\, decano de la Facultad de Comunicación y Artes de la Universidad Loyola. \nEl libro aborda la búsqueda de sentido y la fe en el contexto del humanismo ateo y las consecuencias culturales y existenciales de la “muerte de Dios” en la modernidad. Béjar parte de la convicción de que en la naturaleza humana habita una “desproporción” que señala más allá de sí misma y se convierte en un sendero hacia la fe. A partir de esta idea\, el autor desarrolla cinco retratos de esa desproporción —el deseo\, la historia\, el sentido\, el rostro y el exceso— que muestran la apertura del ser humano a una trascendencia que no puede suprimir. Serafín Béjar propone una reflexión profunda y actual sobre la racionalidad de la fe. Frente al escepticismo o la indiferencia\, sostiene que creer no es un acto irracional\, sino una postura coherente que amplía y ennoblece la razón cuando se enfrenta a los grandes interrogantes de la vida. \nLa presentación\, organizada por Universidad Loyola y Sal Terrae\, invita a un diálogo abierto entre teología\, cultura y experiencia humana\, en el marco de una de las citas literarias más relevantes del calendario sevillano.
URL:https://gcloyola.com/evento/de-la-orfandad-a-la-filiacion-sevilla/
LOCATION:Carpa central – Feria del Libro de Sevilla\, Jardines de Murillo\, Sevilla\, Spain
CATEGORIES:Presentaciones
ATTACH;FMTTYPE=image/png:https://gcloyola.com/wp-content/uploads/2025/10/WEB_De-la-orfandad-a-la-filiacion.png
END:VEVENT
END:VCALENDAR