BEGIN:VCALENDAR
VERSION:2.0
PRODID:-//Grupo de Comunicación Loyola - ECPv6.15.20//NONSGML v1.0//EN
CALSCALE:GREGORIAN
METHOD:PUBLISH
X-WR-CALNAME:Grupo de Comunicación Loyola
X-ORIGINAL-URL:https://gcloyola.com
X-WR-CALDESC:Eventos para Grupo de Comunicación Loyola
REFRESH-INTERVAL;VALUE=DURATION:PT1H
X-Robots-Tag:noindex
X-PUBLISHED-TTL:PT1H
BEGIN:VTIMEZONE
TZID:Europe/Madrid
BEGIN:DAYLIGHT
TZOFFSETFROM:+0100
TZOFFSETTO:+0200
TZNAME:CEST
DTSTART:20240331T010000
END:DAYLIGHT
BEGIN:STANDARD
TZOFFSETFROM:+0200
TZOFFSETTO:+0100
TZNAME:CET
DTSTART:20241027T010000
END:STANDARD
BEGIN:DAYLIGHT
TZOFFSETFROM:+0100
TZOFFSETTO:+0200
TZNAME:CEST
DTSTART:20250330T010000
END:DAYLIGHT
BEGIN:STANDARD
TZOFFSETFROM:+0200
TZOFFSETTO:+0100
TZNAME:CET
DTSTART:20251026T010000
END:STANDARD
BEGIN:DAYLIGHT
TZOFFSETFROM:+0100
TZOFFSETTO:+0200
TZNAME:CEST
DTSTART:20260329T010000
END:DAYLIGHT
BEGIN:STANDARD
TZOFFSETFROM:+0200
TZOFFSETTO:+0100
TZNAME:CET
DTSTART:20261025T010000
END:STANDARD
END:VTIMEZONE
BEGIN:VEVENT
DTSTART;TZID=Europe/Madrid:20250513T190000
DTEND;TZID=Europe/Madrid:20250513T190000
DTSTAMP:20260423T190627
CREATED:20250416T153052Z
LAST-MODIFIED:20250416T153052Z
UID:68900-1747162800-1747162800@gcloyola.com
SUMMARY:La herida se ilumina - Zaragoza
DESCRIPTION:La cuestión del divorcio y la fe es compleja\, y a veces muy difícil de afrontar. No siempre sabemos ni hablar de ello ni acompañarlo. ¿Cómo afecta un divorcio a cualquier persona? Y a un creyente que se casó por la Iglesia de manera consciente y decidida\, ¿qué le supone? La fe y la doctrina eclesial ¿le ayudan a sanar? ¿existen proyectos eclesiales que acompañen a las personas separadas y divorciadas? A estas y otras preguntas responde “La herida se ilumina”\, un libro de entrevistas a personas creyentes divorciadas que ofrecen un testimonio de esperanza. \nLa autora\, Elena Rodríguez-Avial\, es periodista\, creyente y divorciada. Tras la herida que le supuso su divorcio inició el proceso de sanación eclesial Cuatro Estaciones. \nEste libro da pie a un interesante diálogo que tendrá lugar el martes 13 de mayo a las 19h en el centro Pignatelli de Zaragoza. Intervendrán\, junto a la autora\, Icíar Bayarte (Cuatro Estaciones – CVX) y Blanca Pinedo (Cuatro Estaciones).
URL:https://gcloyola.com/evento/la-herida-se-ilumina-zaragoza/
LOCATION:Centro Pignatelli\, Paseo de la Constitución\, 6\, Zaragoza\, Zaragoza\, 50008\, Spain
CATEGORIES:Coloquio,Presentaciones
ATTACH;FMTTYPE=image/png:https://gcloyola.com/wp-content/uploads/2025/04/WEB_La-herida-se-ilumina_13may.png
END:VEVENT
BEGIN:VEVENT
DTSTART;TZID=Europe/Madrid:20250513T190000
DTEND;TZID=Europe/Madrid:20250513T203000
DTSTAMP:20260423T190627
CREATED:20250416T154318Z
LAST-MODIFIED:20250416T154419Z
UID:68906-1747162800-1747168200@gcloyola.com
SUMMARY:El Diario de Reverter - Zaragoza
DESCRIPTION:Al cumplirse 150 años de la fundación del Colegio del Salvador de Zaragoza\, ven la luz dos obras que ponen de relieve la huella de los jesuitas en esta ciudad. Tanto “El Diario de Reverter” como “Comienzos de la Compañía de Jesús en Zaragoza” constituyen valiosos testimonios de un ingente trabajo volcado en la educación de muchas generaciones. \nEl martes 7 de mayo a las 19h\, en el Centro Pignatelli\, tendrá lugar un rico coloquio en torno a estos dos libros\, que tanto reflejan de la historia de Zaragoza y de sus habitantes. En el acto intervendrán los autores junto con diversas personalidades del mundo de la educación y de la cultura. \n 
URL:https://gcloyola.com/evento/el-diario-de-reverter-zaragoza-2/
LOCATION:Centro Pignatelli\, Paseo de la Constitución\, 6\, Zaragoza\, Zaragoza\, 50008\, Spain
CATEGORIES:Coloquio
ATTACH;FMTTYPE=image/png:https://gcloyola.com/wp-content/uploads/2025/04/WEB_El-diario-de-Reverter_6may.png
END:VEVENT
END:VCALENDAR